BEGIN:VCALENDAR
VERSION:2.0
PRODID:-//The Oxbow Hotel - ECPv6.15.18//NONSGML v1.0//EN
CALSCALE:GREGORIAN
METHOD:PUBLISH
X-WR-CALNAME:The Oxbow Hotel
X-ORIGINAL-URL:https://www.theoxbowhotel.com
X-WR-CALDESC:Events for The Oxbow Hotel
REFRESH-INTERVAL;VALUE=DURATION:PT1H
X-Robots-Tag:noindex
X-PUBLISHED-TTL:PT1H
BEGIN:VTIMEZONE
TZID:America/Chicago
BEGIN:DAYLIGHT
TZOFFSETFROM:-0600
TZOFFSETTO:-0500
TZNAME:CDT
DTSTART:20220313T080000
END:DAYLIGHT
BEGIN:STANDARD
TZOFFSETFROM:-0500
TZOFFSETTO:-0600
TZNAME:CST
DTSTART:20221106T070000
END:STANDARD
BEGIN:DAYLIGHT
TZOFFSETFROM:-0600
TZOFFSETTO:-0500
TZNAME:CDT
DTSTART:20230312T080000
END:DAYLIGHT
BEGIN:STANDARD
TZOFFSETFROM:-0500
TZOFFSETTO:-0600
TZNAME:CST
DTSTART:20231105T070000
END:STANDARD
BEGIN:DAYLIGHT
TZOFFSETFROM:-0600
TZOFFSETTO:-0500
TZNAME:CDT
DTSTART:20240310T080000
END:DAYLIGHT
BEGIN:STANDARD
TZOFFSETFROM:-0500
TZOFFSETTO:-0600
TZNAME:CST
DTSTART:20241103T070000
END:STANDARD
END:VTIMEZONE
BEGIN:VEVENT
DTSTART;TZID=America/Chicago:20230621T193000
DTEND;TZID=America/Chicago:20230621T220000
DTSTAMP:20260419T152235
CREATED:20230523T184018Z
LAST-MODIFIED:20230523T184116Z
UID:6590-1687375800-1687384800@www.theoxbowhotel.com
SUMMARY:FIRESIDE TUNES on The Lakely Patio with Songa
DESCRIPTION:Returning to The Lakely Patio is everyone’s favorite patio performance\, dubbed Fireside Tunes\, is meant to capture the essence of some of our most-loved experiences – spending the evening outside on The Patio with folks we care about\, listening to live music in a down-to-earth\, low-key (but high-vibe) atmosphere\, sipping craft drinks\, and sharing a love of music – all around our stone-cut fire pits. \nCome and enjoy an inspiring performance of original music with Songa. Singer/Songwriters and lifelong musicians Mario and Sherry Friedel will take you on a journey with their unique instrumental sound and soothing vocal blend. Their newest EP\, released in 2022\, Sunshine in the Rain\, includes songs of hope and resilience with a message of love. Their 2020 Nashville produced album\, Dreams Are in the Making\, shows Songa’s true Americana artistry\, with authentic songs in the folk\, blues and country genres\, mixed in with folk-grass and Latin jazz for variety. \nMulti-instrumentalists playing guitar\, banjo\, ukulele\, harmonica\, melodica and percussion\, these artists will take you from folk to country\, bluegrass to blues to Latin jazz and back again. Rooted in the Nashville songwriting tradition\, you won’t want to miss their honest lyrics and pure vocal harmonies. Songa was a finalist in the 2020 and 2022 Great River Folk Festival Songwriting Contests and voted the “fan favorite” in 2020. A 2021 compilation of 7 of Mario’s songs arranged by Tom Washatka (Steel Moon Records) for Big Band Jazz in Janet Planet’s “Under the Venus Moon” was recognized on the Grammy Ballot 2021 under the category Best Vocal Jazz Album. \nMario\, originally from Fond du Lac\, was produced and published by Buzz Cason\, Creative Workshop Studio\, Nashville\, TN and signed to Universal Records in 1971 as a member of White Duck\, Jimmy Buffet’s first Coral Reefer Band\, alongside legendary Americana artist John Hiatt. Sherry is a lifelong music educator and church music director.  \nAt Fireside Tunes\, you can expect an emotive musical experience of local\, regional\, and occasionally touring artists with a strong lean towards acoustic\, folk\, and Americana styles. Fireside Tunes offers listeners a well-rounded sound\, with occasional notes of indie\, rock\, and other musical genres. \nFireside Tunes is held on select Wednesdays throughout the summer and autumn on The Lakely Patio from 7:30pm to 10:00pm. In the event of inclement weather\, Fireside Tunes will move inside to The Lakely Stage. This event is free to attend\, but please come thirsty! \nAre you a musician interested in gigging at Fireside Tunes? Send a note to events@theoxbowhotel.com for more info!
URL:https://www.theoxbowhotel.com/calendar/fireside-tunes-on-the-lakely-patio-with-songa-2/
ATTACH;FMTTYPE=image/jpeg:https://www.theoxbowhotel.com/wp-content/uploads/2023/05/songa-photo.jpg
END:VEVENT
END:VCALENDAR