BEGIN:VCALENDAR
VERSION:2.0
PRODID:-//The Oxbow Hotel - ECPv6.15.18//NONSGML v1.0//EN
CALSCALE:GREGORIAN
METHOD:PUBLISH
X-WR-CALNAME:The Oxbow Hotel
X-ORIGINAL-URL:https://www.theoxbowhotel.com
X-WR-CALDESC:Events for The Oxbow Hotel
REFRESH-INTERVAL;VALUE=DURATION:PT1H
X-Robots-Tag:noindex
X-PUBLISHED-TTL:PT1H
BEGIN:VTIMEZONE
TZID:America/Chicago
BEGIN:DAYLIGHT
TZOFFSETFROM:-0600
TZOFFSETTO:-0500
TZNAME:CDT
DTSTART:20220313T080000
END:DAYLIGHT
BEGIN:STANDARD
TZOFFSETFROM:-0500
TZOFFSETTO:-0600
TZNAME:CST
DTSTART:20221106T070000
END:STANDARD
BEGIN:DAYLIGHT
TZOFFSETFROM:-0600
TZOFFSETTO:-0500
TZNAME:CDT
DTSTART:20230312T080000
END:DAYLIGHT
BEGIN:STANDARD
TZOFFSETFROM:-0500
TZOFFSETTO:-0600
TZNAME:CST
DTSTART:20231105T070000
END:STANDARD
BEGIN:DAYLIGHT
TZOFFSETFROM:-0600
TZOFFSETTO:-0500
TZNAME:CDT
DTSTART:20240310T080000
END:DAYLIGHT
BEGIN:STANDARD
TZOFFSETFROM:-0500
TZOFFSETTO:-0600
TZNAME:CST
DTSTART:20241103T070000
END:STANDARD
END:VTIMEZONE
BEGIN:VEVENT
DTSTART;TZID=America/Chicago:20230623T180000
DTEND;TZID=America/Chicago:20230623T220000
DTSTAMP:20260419T152234
CREATED:20230525T160129Z
LAST-MODIFIED:20230615T191510Z
UID:6606-1687543200-1687557600@www.theoxbowhotel.com
SUMMARY:Firecracker Pre-Party
DESCRIPTION:START WITH A BANG!\n\nThe Red Flint Firecracker is back\, doubling down and lighting it up for an explosive weekend of runs\, rides\, races\, and one big ol’ party in downtown Eau Claire to kick it all off.\n\nThis year we’re bringing the party to downtown Eau Claire with music\, food\, drinks\, and more while you pick up your race packet. Plus each registered participant gets one free tap beer at the tent! Part of the proceeds raised through drinks and food go to support CORBA and their work building trails across the Chippewa Valley.\n\nThe firepits will be blazing and camaraderie flowing as the biking and trail running communities unite for a celebratory night packed with good vibes.\n\nErupting out of the Twin Cities and Eau Claire\, WI with a musical blend that reflects the diversity of its band members—who hail from Kingston\, Jamaica; Providence\, RI; Chicago\, IL; Rio de Janeiro\, Brazil; Minneapolis and St. Paul\, MN; and Eau Claire and Chippewa Falls\, WI — Irie Sol delivers authentic Jamaican chat/DJing and soaring\, soulful melodies backed by blazing bebop horns\, wailing guitar\, and tight drum and bass. The band has shared bills with The Wailers\, Stephen Marley\, Morgan Heritage\, The Meditations\, Justin Vernon of Bon Iver\, John Munson of Semisonic\, and more.\n\nSome of what you can expect as the community comes together:\n\nFull Lakely menu + outdoor burgers\, brats\, and more\nBeer & Cocktail Bars\nOne Free Tap Beer for Registered Racers\nRace Packet Pick Up for Saturday Events\nVendor & Sponsor Tents\nMicro Bike Races (all welcome to try it!)\nBike Spin Art w/ Shift Cyclery & Coffee Bar\nTwo cozy firepits\nFirecracker\, CORBA\, and sponsor merch deals\n\nCLICK HERE FOR MORE INFORMATION!!!!
URL:https://www.theoxbowhotel.com/calendar/firecracker-pre-party/
ATTACH;FMTTYPE=image/jpeg:https://www.theoxbowhotel.com/wp-content/uploads/2023/05/CORBA-EVENT-PROMO-PHOTO.jpg
END:VEVENT
END:VCALENDAR