BEGIN:VCALENDAR
VERSION:2.0
PRODID:-//The Oxbow Hotel - ECPv6.15.18//NONSGML v1.0//EN
CALSCALE:GREGORIAN
METHOD:PUBLISH
X-WR-CALNAME:The Oxbow Hotel
X-ORIGINAL-URL:https://www.theoxbowhotel.com
X-WR-CALDESC:Events for The Oxbow Hotel
REFRESH-INTERVAL;VALUE=DURATION:PT1H
X-Robots-Tag:noindex
X-PUBLISHED-TTL:PT1H
BEGIN:VTIMEZONE
TZID:America/Chicago
BEGIN:DAYLIGHT
TZOFFSETFROM:-0600
TZOFFSETTO:-0500
TZNAME:CDT
DTSTART:20220313T080000
END:DAYLIGHT
BEGIN:STANDARD
TZOFFSETFROM:-0500
TZOFFSETTO:-0600
TZNAME:CST
DTSTART:20221106T070000
END:STANDARD
BEGIN:DAYLIGHT
TZOFFSETFROM:-0600
TZOFFSETTO:-0500
TZNAME:CDT
DTSTART:20230312T080000
END:DAYLIGHT
BEGIN:STANDARD
TZOFFSETFROM:-0500
TZOFFSETTO:-0600
TZNAME:CST
DTSTART:20231105T070000
END:STANDARD
BEGIN:DAYLIGHT
TZOFFSETFROM:-0600
TZOFFSETTO:-0500
TZNAME:CDT
DTSTART:20240310T080000
END:DAYLIGHT
BEGIN:STANDARD
TZOFFSETFROM:-0500
TZOFFSETTO:-0600
TZNAME:CST
DTSTART:20241103T070000
END:STANDARD
END:VTIMEZONE
BEGIN:VEVENT
DTSTART;TZID=America/Chicago:20230627T190000
DTEND;TZID=America/Chicago:20230627T220000
DTSTAMP:20260419T133931
CREATED:20230622T211729Z
LAST-MODIFIED:20230622T211930Z
UID:6684-1687892400-1687903200@www.theoxbowhotel.com
SUMMARY:The Lakely Presents: Clear Water Comedy Open Mic
DESCRIPTION:Join us each week on Tuesday nights as we feature Clear Water Comedy Open Mic Night with a plethora of entertainment and experiences\, from musicians and comedians to improv and spoken word — anything goes\, and you never know what (or who!) you might see or hear! Both established and emerging artists in the Chippewa Valley are encouraged to perform! \nEach week\, a different artist will host the evening\, and lead off the program with 20-30 minutes of their own work. Following this performance\, open mic begins. Whether it is music\, comedy\, sketch\, live readings\, poetry\, acting\, improv- all are welcome!  \nEVENT DETAILS: \n– Artists will perform on The Lakely Stage\n– Showtime is at 7:00 pm\n– Everyone is welcome\, and the show is free to attend (but please come thirsty!) \nPERFORMER DETAILS: \n– Artists will perform on The Lakely Stage\n– Sign-ups begin at 6:30 pm (must be present to sign up – no phone calls\, no friend sign up\, etc.)\n– Sign up is first come first serve- order is determined by the host. Typically musicians are first\, and we end the evening with the stand up comedy performers.\n– Each musician gets two songs.\n– Each performer doing a spoken piece (whether it is comedy\, magic\, poetry\, etc.) gets five minutes.\n– Showtime is at 7:00 pm \nWhether this is your first live performance or you’ve been around the block a few times\, we welcome you to share your gift. \nCome hang with us!  \nEveryone is welcome! 
URL:https://www.theoxbowhotel.com/calendar/the-lakely-presents-clear-water-comedy-open-mic-20/
ATTACH;FMTTYPE=image/png:https://www.theoxbowhotel.com/wp-content/uploads/2022/04/OpenMicNightPost-01.png
END:VEVENT
END:VCALENDAR