BEGIN:VCALENDAR
VERSION:2.0
PRODID:-//The Oxbow Hotel - ECPv6.15.18//NONSGML v1.0//EN
CALSCALE:GREGORIAN
METHOD:PUBLISH
X-WR-CALNAME:The Oxbow Hotel
X-ORIGINAL-URL:https://www.theoxbowhotel.com
X-WR-CALDESC:Events for The Oxbow Hotel
REFRESH-INTERVAL;VALUE=DURATION:PT1H
X-Robots-Tag:noindex
X-PUBLISHED-TTL:PT1H
BEGIN:VTIMEZONE
TZID:America/Chicago
BEGIN:DAYLIGHT
TZOFFSETFROM:-0600
TZOFFSETTO:-0500
TZNAME:CDT
DTSTART:20220313T080000
END:DAYLIGHT
BEGIN:STANDARD
TZOFFSETFROM:-0500
TZOFFSETTO:-0600
TZNAME:CST
DTSTART:20221106T070000
END:STANDARD
BEGIN:DAYLIGHT
TZOFFSETFROM:-0600
TZOFFSETTO:-0500
TZNAME:CDT
DTSTART:20230312T080000
END:DAYLIGHT
BEGIN:STANDARD
TZOFFSETFROM:-0500
TZOFFSETTO:-0600
TZNAME:CST
DTSTART:20231105T070000
END:STANDARD
BEGIN:DAYLIGHT
TZOFFSETFROM:-0600
TZOFFSETTO:-0500
TZNAME:CDT
DTSTART:20240310T080000
END:DAYLIGHT
BEGIN:STANDARD
TZOFFSETFROM:-0500
TZOFFSETTO:-0600
TZNAME:CST
DTSTART:20241103T070000
END:STANDARD
END:VTIMEZONE
BEGIN:VEVENT
DTSTART;TZID=America/Chicago:20230630T190000
DTEND;TZID=America/Chicago:20230630T220000
DTSTAMP:20260419T133933
CREATED:20230606T175152Z
LAST-MODIFIED:20230606T175255Z
UID:6633-1688151600-1688162400@www.theoxbowhotel.com
SUMMARY:Late Night Jazz: Paul Silbergleit Trio
DESCRIPTION:Veteran Milwaukee-area jazz guitarist Paul Silbergleit makes his Lakely debut\, in the company of drumming phenom Devin Drobka and our own Jeremy Boettcher on bass! Tasty\, swingin’\, and sophisticated\, the trio brings a host of original tunes and arrangements in addition to a fresh improvisatory style.
URL:https://www.theoxbowhotel.com/calendar/late-night-jazz-paul-silbergleit-trio/
ATTACH;FMTTYPE=image/jpeg:https://www.theoxbowhotel.com/wp-content/uploads/2023/06/Paul-Silbergleit-Trio-scaled.jpg
END:VEVENT
END:VCALENDAR