BEGIN:VCALENDAR
VERSION:2.0
PRODID:-//The Oxbow Hotel - ECPv6.15.18//NONSGML v1.0//EN
CALSCALE:GREGORIAN
METHOD:PUBLISH
X-WR-CALNAME:The Oxbow Hotel
X-ORIGINAL-URL:https://www.theoxbowhotel.com
X-WR-CALDESC:Events for The Oxbow Hotel
REFRESH-INTERVAL;VALUE=DURATION:PT1H
X-Robots-Tag:noindex
X-PUBLISHED-TTL:PT1H
BEGIN:VTIMEZONE
TZID:America/Chicago
BEGIN:DAYLIGHT
TZOFFSETFROM:-0600
TZOFFSETTO:-0500
TZNAME:CDT
DTSTART:20220313T080000
END:DAYLIGHT
BEGIN:STANDARD
TZOFFSETFROM:-0500
TZOFFSETTO:-0600
TZNAME:CST
DTSTART:20221106T070000
END:STANDARD
BEGIN:DAYLIGHT
TZOFFSETFROM:-0600
TZOFFSETTO:-0500
TZNAME:CDT
DTSTART:20230312T080000
END:DAYLIGHT
BEGIN:STANDARD
TZOFFSETFROM:-0500
TZOFFSETTO:-0600
TZNAME:CST
DTSTART:20231105T070000
END:STANDARD
BEGIN:DAYLIGHT
TZOFFSETFROM:-0600
TZOFFSETTO:-0500
TZNAME:CDT
DTSTART:20240310T080000
END:DAYLIGHT
BEGIN:STANDARD
TZOFFSETFROM:-0500
TZOFFSETTO:-0600
TZNAME:CST
DTSTART:20241103T070000
END:STANDARD
END:VTIMEZONE
BEGIN:VEVENT
DTSTART;TZID=America/Chicago:20230707T190000
DTEND;TZID=America/Chicago:20230707T220000
DTSTAMP:20260419T133932
CREATED:20230613T165254Z
LAST-MODIFIED:20230613T165758Z
UID:6651-1688756400-1688767200@www.theoxbowhotel.com
SUMMARY:Live On The Lakely Stage: Scott Wilcox
DESCRIPTION:Scott Wilcox is no stranger to success in the music industry. With a career that spans decades\, he has achieved a level of recognition and acclaim that many songwriters only dream of. From winning the Bob Dylan Songwriting Award twice to performing on the Oprah Winfrey Lifeclass Show\, Wilcox has become a household name in the world of music. Wilcox’s talent has been showcased on numerous platforms\, including a Superbowl 50 commercial where he performed with pop icon Seal. His ability to craft emotionally resonant lyrics and unforgettable melodies has earned him a dedicated fan base and critical acclaim. To date\, Wilcox has released four albums\, each showcasing his unique musical style and storytelling abilities. His most recent release\, “A Little Jing-a-ling\,” is a holiday-themed album that showcases Wilcox’s ability to capture the magic and nostalgia of the holiday season. Wilcox’s previous releases\, including “Love Notes\,” “Locally Famous\,” and “The Road\,” have received widespread praise from music critics and fans alike. Each album is a testament to Wilcox’s unwavering commitment to his craft and his ability to create music that speaks to the heart. As Wilcox continues to write and perform\, his impact on the music industry only continues to grow. With a dedicated following and a body of work that speaks for itself\, it is clear that Scott Wilcox is a songwriter to watch in the years to come.
URL:https://www.theoxbowhotel.com/calendar/live-on-the-lakely-stage-scott-wilcox/
ATTACH;FMTTYPE=image/jpeg:https://www.theoxbowhotel.com/wp-content/uploads/2023/06/scott-wilcox.jpg
END:VEVENT
END:VCALENDAR