BEGIN:VCALENDAR
VERSION:2.0
PRODID:-//The Oxbow Hotel - ECPv6.15.18//NONSGML v1.0//EN
CALSCALE:GREGORIAN
METHOD:PUBLISH
X-WR-CALNAME:The Oxbow Hotel
X-ORIGINAL-URL:https://www.theoxbowhotel.com
X-WR-CALDESC:Events for The Oxbow Hotel
REFRESH-INTERVAL;VALUE=DURATION:PT1H
X-Robots-Tag:noindex
X-PUBLISHED-TTL:PT1H
BEGIN:VTIMEZONE
TZID:America/Chicago
BEGIN:DAYLIGHT
TZOFFSETFROM:-0600
TZOFFSETTO:-0500
TZNAME:CDT
DTSTART:20220313T080000
END:DAYLIGHT
BEGIN:STANDARD
TZOFFSETFROM:-0500
TZOFFSETTO:-0600
TZNAME:CST
DTSTART:20221106T070000
END:STANDARD
BEGIN:DAYLIGHT
TZOFFSETFROM:-0600
TZOFFSETTO:-0500
TZNAME:CDT
DTSTART:20230312T080000
END:DAYLIGHT
BEGIN:STANDARD
TZOFFSETFROM:-0500
TZOFFSETTO:-0600
TZNAME:CST
DTSTART:20231105T070000
END:STANDARD
BEGIN:DAYLIGHT
TZOFFSETFROM:-0600
TZOFFSETTO:-0500
TZNAME:CDT
DTSTART:20240310T080000
END:DAYLIGHT
BEGIN:STANDARD
TZOFFSETFROM:-0500
TZOFFSETTO:-0600
TZNAME:CST
DTSTART:20241103T070000
END:STANDARD
END:VTIMEZONE
BEGIN:VEVENT
DTSTART;TZID=America/Chicago:20230712T170000
DTEND;TZID=America/Chicago:20230712T220000
DTSTAMP:20260419T133931
CREATED:20230628T174451Z
LAST-MODIFIED:20230710T164855Z
UID:6705-1689181200-1689199200@www.theoxbowhotel.com
SUMMARY:Whiskey Wednesday
DESCRIPTION:Come join us for Whiskey Wednesday at The Lakely and enjoy one of our Whiskey Tasting Flights! Stop in for samples of four whiskeys\, learn more about them\, and enjoy special discounts on our famous Great Grampa craft cocktail all night long! 5-10pm! Open to everyone 21+! We hope to see you there.\n\n\n\nFLIGHTS FEATURING:\n\n\nFar North Spirits (Hallock\, MN):\nRoknar Rye Whiskey\nBodalen Bourbon Whiskey\n\n\n45th Parallel Distillery (New Richmond\, WI):\nNew Richmond Rye Whiskey\nBorder Bourbon Whiskey
URL:https://www.theoxbowhotel.com/calendar/whiskey-wednesday/
ATTACH;FMTTYPE=image/jpeg:https://www.theoxbowhotel.com/wp-content/uploads/2023/06/IMG_9374-1-scaled.jpg
END:VEVENT
END:VCALENDAR