BEGIN:VCALENDAR
VERSION:2.0
PRODID:-//The Oxbow Hotel - ECPv6.15.18//NONSGML v1.0//EN
CALSCALE:GREGORIAN
METHOD:PUBLISH
X-ORIGINAL-URL:https://www.theoxbowhotel.com
X-WR-CALDESC:Events for The Oxbow Hotel
REFRESH-INTERVAL;VALUE=DURATION:PT1H
X-Robots-Tag:noindex
X-PUBLISHED-TTL:PT1H
BEGIN:VTIMEZONE
TZID:America/Chicago
BEGIN:DAYLIGHT
TZOFFSETFROM:-0600
TZOFFSETTO:-0500
TZNAME:CDT
DTSTART:20220313T080000
END:DAYLIGHT
BEGIN:STANDARD
TZOFFSETFROM:-0500
TZOFFSETTO:-0600
TZNAME:CST
DTSTART:20221106T070000
END:STANDARD
BEGIN:DAYLIGHT
TZOFFSETFROM:-0600
TZOFFSETTO:-0500
TZNAME:CDT
DTSTART:20230312T080000
END:DAYLIGHT
BEGIN:STANDARD
TZOFFSETFROM:-0500
TZOFFSETTO:-0600
TZNAME:CST
DTSTART:20231105T070000
END:STANDARD
BEGIN:DAYLIGHT
TZOFFSETFROM:-0600
TZOFFSETTO:-0500
TZNAME:CDT
DTSTART:20240310T080000
END:DAYLIGHT
BEGIN:STANDARD
TZOFFSETFROM:-0500
TZOFFSETTO:-0600
TZNAME:CST
DTSTART:20241103T070000
END:STANDARD
END:VTIMEZONE
BEGIN:VEVENT
DTSTART;TZID=America/Chicago:20230714T190000
DTEND;TZID=America/Chicago:20230714T220000
DTSTAMP:20260419T133928
CREATED:20230616T141032Z
LAST-MODIFIED:20230616T141251Z
UID:6660-1689361200-1689372000@www.theoxbowhotel.com
SUMMARY:Late Night Jazz: Jason & The Jazzerknots
DESCRIPTION:About Jason and The Jazzerknots: \nJason and the Jazzerknots formed to play original jazz compositions that appeal to listeners of all stripes. Led by guitarist and composer Jason Goessl\, and featuring Josh Gallagher on piano\, Jeremy Boettcher on upright bass\, and Mike Malone on drums\, the group sounds as if they are just getting started—as if you’ve wandered into a jazz performance in the middle of the first set. Their sound is grounded in the great tradition of jazz rhythm sections\, from the Big Band Era to the present\, and topped with Jason Goessl’s unique\, horn-like approach to the guitar. Their debut album “The Shakedown” showcases the range of the Jazzerknots appeal and skill\, featuring all original compositions by Jason Goessl that range from the pensive and evocative to the joyous and swinging. \nAbout Jason Goessl: \nA subtle aesthetic sensitivity and a veritable encyclopedic knowledge of the guitar have made Jason Goessl one of the most exciting musicians of recent vintage. His studies began on guitar in the small town of Maribel\, Wisconsin\, and grew during his college years at the University of Wisconsin-Eau Claire\, where he honed his jazz skills. After wrapping up his studies\, he moved to Seattle\, where he recorded and produced for a variety of styles\, including indie rock and folk music\, becoming a regular fixture of the local music scene. Now calling Oshkosh\, Wisconsin home\, Mr. Goessl divides his time between his record company\, Sun Goose Records\, his jazz duo featuring his wife\, Kate Voss\, on vocals\, Sundae + Mr. Goessl\, and various other musical projects that catch his attention. His most recent jazz recording as a leader serves as a retrospective\, featuring compositions he created over the past 10 years\, and serves as a love letter to the jazz guitar. Mr. Goessl’s unique style\, which features striking patterns of articulation and technique\, was developed not only through a thorough study of jazz guitar masters but by studying the tonguing patterns of clarinet and saxophone players as well.
URL:https://www.theoxbowhotel.com/calendar/late-night-jazz-jason-the-jazzerknots/
ATTACH;FMTTYPE=image/jpeg:https://www.theoxbowhotel.com/wp-content/uploads/2023/06/Jason-The-Jazzerknots-scaled.jpg
END:VEVENT
END:VCALENDAR