BEGIN:VCALENDAR
VERSION:2.0
PRODID:-//The Oxbow Hotel - ECPv6.15.18//NONSGML v1.0//EN
CALSCALE:GREGORIAN
METHOD:PUBLISH
X-ORIGINAL-URL:https://www.theoxbowhotel.com
X-WR-CALDESC:Events for The Oxbow Hotel
REFRESH-INTERVAL;VALUE=DURATION:PT1H
X-Robots-Tag:noindex
X-PUBLISHED-TTL:PT1H
BEGIN:VTIMEZONE
TZID:America/Chicago
BEGIN:DAYLIGHT
TZOFFSETFROM:-0600
TZOFFSETTO:-0500
TZNAME:CDT
DTSTART:20220313T080000
END:DAYLIGHT
BEGIN:STANDARD
TZOFFSETFROM:-0500
TZOFFSETTO:-0600
TZNAME:CST
DTSTART:20221106T070000
END:STANDARD
BEGIN:DAYLIGHT
TZOFFSETFROM:-0600
TZOFFSETTO:-0500
TZNAME:CDT
DTSTART:20230312T080000
END:DAYLIGHT
BEGIN:STANDARD
TZOFFSETFROM:-0500
TZOFFSETTO:-0600
TZNAME:CST
DTSTART:20231105T070000
END:STANDARD
BEGIN:DAYLIGHT
TZOFFSETFROM:-0600
TZOFFSETTO:-0500
TZNAME:CDT
DTSTART:20240310T080000
END:DAYLIGHT
BEGIN:STANDARD
TZOFFSETFROM:-0500
TZOFFSETTO:-0600
TZNAME:CST
DTSTART:20241103T070000
END:STANDARD
END:VTIMEZONE
BEGIN:VEVENT
DTSTART;TZID=America/Chicago:20230728T190000
DTEND;TZID=America/Chicago:20230728T220000
DTSTAMP:20260419T133928
CREATED:20230628T172541Z
LAST-MODIFIED:20230628T172628Z
UID:6702-1690570800-1690581600@www.theoxbowhotel.com
SUMMARY:Live On The Lakely Stage: Melange
DESCRIPTION:Mélange is a trio of kindred spirits that intends to create an intimate\, wholesome\, and relaxing listening environment with soulful 3-part harmonies and gently grooving guitar. They feature Maggie Sills (vocals)\, Valerie Evans (vocals)\, and Emily Watkins (vocals/guitar). Mélange performs your favorite easy-listening hits\, primarily in the genres of indie pop\, folk rock\, and classic country
URL:https://www.theoxbowhotel.com/calendar/live-on-the-lakely-stage-melange/
ATTACH;FMTTYPE=image/jpeg:https://www.theoxbowhotel.com/wp-content/uploads/2023/06/melange-promo-photo.jpg
END:VEVENT
END:VCALENDAR