BEGIN:VCALENDAR
VERSION:2.0
PRODID:-//The Oxbow Hotel - ECPv6.15.18//NONSGML v1.0//EN
CALSCALE:GREGORIAN
METHOD:PUBLISH
X-ORIGINAL-URL:https://www.theoxbowhotel.com
X-WR-CALDESC:Events for The Oxbow Hotel
REFRESH-INTERVAL;VALUE=DURATION:PT1H
X-Robots-Tag:noindex
X-PUBLISHED-TTL:PT1H
BEGIN:VTIMEZONE
TZID:America/Chicago
BEGIN:DAYLIGHT
TZOFFSETFROM:-0600
TZOFFSETTO:-0500
TZNAME:CDT
DTSTART:20220313T080000
END:DAYLIGHT
BEGIN:STANDARD
TZOFFSETFROM:-0500
TZOFFSETTO:-0600
TZNAME:CST
DTSTART:20221106T070000
END:STANDARD
BEGIN:DAYLIGHT
TZOFFSETFROM:-0600
TZOFFSETTO:-0500
TZNAME:CDT
DTSTART:20230312T080000
END:DAYLIGHT
BEGIN:STANDARD
TZOFFSETFROM:-0500
TZOFFSETTO:-0600
TZNAME:CST
DTSTART:20231105T070000
END:STANDARD
BEGIN:DAYLIGHT
TZOFFSETFROM:-0600
TZOFFSETTO:-0500
TZNAME:CDT
DTSTART:20240310T080000
END:DAYLIGHT
BEGIN:STANDARD
TZOFFSETFROM:-0500
TZOFFSETTO:-0600
TZNAME:CST
DTSTART:20241103T070000
END:STANDARD
END:VTIMEZONE
BEGIN:VEVENT
DTSTART;TZID=America/Chicago:20230729T190000
DTEND;TZID=America/Chicago:20230729T220000
DTSTAMP:20260419T133929
CREATED:20230711T155225Z
LAST-MODIFIED:20230711T155304Z
UID:6728-1690657200-1690668000@www.theoxbowhotel.com
SUMMARY:Late Night Jazz: Jeremy Boettcher Trio
DESCRIPTION:Bassist Jeremy Boettcher has toured the world playing various styles of music. He has performed at the prestigious Jazz at Lincoln Center-Doha and Jazz at Lincoln Center-Shanghai. Jeremy has also toured extensively in the band S. Carey. Catch his trio for a night of dynamic and swinging jazz standards.
URL:https://www.theoxbowhotel.com/calendar/late-night-jazz-jeremy-boettcher-trio-31/
ATTACH;FMTTYPE=image/jpeg:https://www.theoxbowhotel.com/wp-content/uploads/2023/03/jeremy-and-josh-scaled.jpg
END:VEVENT
END:VCALENDAR