BEGIN:VCALENDAR
VERSION:2.0
PRODID:-//The Oxbow Hotel - ECPv6.15.18//NONSGML v1.0//EN
CALSCALE:GREGORIAN
METHOD:PUBLISH
X-WR-CALNAME:The Oxbow Hotel
X-ORIGINAL-URL:https://www.theoxbowhotel.com
X-WR-CALDESC:Events for The Oxbow Hotel
REFRESH-INTERVAL;VALUE=DURATION:PT1H
X-Robots-Tag:noindex
X-PUBLISHED-TTL:PT1H
BEGIN:VTIMEZONE
TZID:America/Chicago
BEGIN:DAYLIGHT
TZOFFSETFROM:-0600
TZOFFSETTO:-0500
TZNAME:CDT
DTSTART:20220313T080000
END:DAYLIGHT
BEGIN:STANDARD
TZOFFSETFROM:-0500
TZOFFSETTO:-0600
TZNAME:CST
DTSTART:20221106T070000
END:STANDARD
BEGIN:DAYLIGHT
TZOFFSETFROM:-0600
TZOFFSETTO:-0500
TZNAME:CDT
DTSTART:20230312T080000
END:DAYLIGHT
BEGIN:STANDARD
TZOFFSETFROM:-0500
TZOFFSETTO:-0600
TZNAME:CST
DTSTART:20231105T070000
END:STANDARD
BEGIN:DAYLIGHT
TZOFFSETFROM:-0600
TZOFFSETTO:-0500
TZNAME:CDT
DTSTART:20240310T080000
END:DAYLIGHT
BEGIN:STANDARD
TZOFFSETFROM:-0500
TZOFFSETTO:-0600
TZNAME:CST
DTSTART:20241103T070000
END:STANDARD
END:VTIMEZONE
BEGIN:VEVENT
DTSTART;TZID=America/Chicago:20230730T103000
DTEND;TZID=America/Chicago:20230730T130000
DTSTAMP:20260419T120356
CREATED:20230628T163128Z
LAST-MODIFIED:20230728T201030Z
UID:6699-1690713000-1690722000@www.theoxbowhotel.com
SUMMARY:Drag Me To Brunch At The Lakely
DESCRIPTION:You’re invited to the spectacular DRAG Me To Brunch At The Lakely\, held at The Oxbow Hotel and Lakely\, and hosted by local drag legend\, Khloe Wold\, with guest performances! \nYou won’t want to miss this spectacular and interactive (18+) show\, live on The Lakely stage! \nTickets will be sold by tables of 2 and you are welcome to purchase more than one table for larger groups. For special requests\, please email events@theoxbowhotel.com. See below for more information. \nEVENT DETAILS\n\nDoors open at 09:30 AM.\nBrunch orders accepted any time before 10:30 AM\, so please arrive at your convenience!\nShow starts at 10:30 AM.\nShow lasts approximately an hour and fifteen minutes\nHang out after the show and snap a photo of your favorite Queen or King!\n\n\nEVENT RULES:\n\nThis event is 18+\, must have ID present at time of arrival.\nTickets are $15.00 per person\, sold by tables of 2\nTicket sales are non-refundable\, non-transferrable\nTicket prices do not include taxes or fees\nTables will be assigned by Lakely staff – please email events@theoxbowhotel.com for special requests/accommodations.\n\nPURCHASE TICKETS HERE!!! \n 
URL:https://www.theoxbowhotel.com/calendar/drag-me-to-brunch-at-the-lakely-2/
ATTACH;FMTTYPE=image/jpeg:https://www.theoxbowhotel.com/wp-content/uploads/2023/06/DragBrunchPromo100.jpg
END:VEVENT
END:VCALENDAR